BEGIN:VCALENDAR
VERSION:2.0
PRODID:-//Autograf//Djoin//NO
METHOD:PUBLISH
BEGIN:VTIMEZONE
TZID:Europe/Oslo
BEGIN:DAYLIGHT
TZOFFSETFROM:+0100
RRULE:FREQ=YEARLY;BYMONTH=3;BYDAY=-1SU
DTSTART:19810329T020000
TZNAME:CEST
TZOFFSETTO:+0200
END:DAYLIGHT
BEGIN:STANDARD
TZOFFSETFROM:+0200
RRULE:FREQ=YEARLY;BYMONTH=10;BYDAY=-1SU
DTSTART:19961027T030000
TZNAME:CET
TZOFFSETTO:+0100
END:STANDARD
END:VTIMEZONE
BEGIN:VEVENT
UID:67dc3633daa9f7b7f8d7d62f260fda7c
DTSTAMP:20260423T174245Z
DTSTART;TZID=Europe/Oslo:20151016T151500Z
DTEND;TZID=Europe/Oslo:20151017T133000Z
URL:https://www.lyespeiderne.no/aktivitet/36
SUMMARY:Overnattingstur for Småspeidarane 1 til Melshei speiderhytte 16-17 oktober
LOCATION:Lye Forsamlingshus\, Lyefjell
END:VEVENT
END:VCALENDAR